BEGIN:VCALENDAR
VERSION:2.0
PRODID:-//Kolping Oberstdorf - ECPv4.6.25//NONSGML v1.0//EN
CALSCALE:GREGORIAN
METHOD:PUBLISH
X-WR-CALNAME:Kolping Oberstdorf
X-ORIGINAL-URL:https://www.kolping-oberstdorf.de
X-WR-CALDESC:Veranstaltungen für Kolping Oberstdorf
BEGIN:VEVENT
DTSTART;VALUE=DATE:20250913
DTEND;VALUE=DATE:20250914
DTSTAMP:20260423T052147
CREATED:20250106T195158Z
LAST-MODIFIED:20250106T195158Z
UID:2955-1757721600-1757807999@www.kolping-oberstdorf.de
SUMMARY:Familienkreis
DESCRIPTION:Besuch des Viehscheids \n
URL:https://www.kolping-oberstdorf.de/termine/familienkreis-3/
CATEGORIES:Mutter-Kind-Treff
END:VEVENT
END:VCALENDAR