BEGIN:VCALENDAR
VERSION:2.0
PRODID:-//Kolping Oberstdorf - ECPv4.6.25//NONSGML v1.0//EN
CALSCALE:GREGORIAN
METHOD:PUBLISH
X-WR-CALNAME:Kolping Oberstdorf
X-ORIGINAL-URL:https://www.kolping-oberstdorf.de
X-WR-CALDESC:Veranstaltungen für Kolping Oberstdorf
BEGIN:VEVENT
DTSTART;VALUE=DATE:20260207
DTEND;VALUE=DATE:20260208
DTSTAMP:20260421T223137
CREATED:20260102T200357Z
LAST-MODIFIED:20260102T200357Z
UID:3101-1770422400-1770508799@www.kolping-oberstdorf.de
SUMMARY:Fasnachtsball
DESCRIPTION:Ein großer Fasnachtsball mit dem Schützenverein und D’Oberstdorfer Fasnachter im Oberstdorf Haus \n
URL:https://www.kolping-oberstdorf.de/termine/fasnachtsball/
END:VEVENT
END:VCALENDAR