BEGIN:VCALENDAR
VERSION:2.0
PRODID:-//Kolping Oberstdorf - ECPv4.6.25//NONSGML v1.0//EN
CALSCALE:GREGORIAN
METHOD:PUBLISH
X-WR-CALNAME:Kolping Oberstdorf
X-ORIGINAL-URL:https://www.kolping-oberstdorf.de
X-WR-CALDESC:Veranstaltungen für Kolping Oberstdorf
BEGIN:VEVENT
DTSTART;VALUE=DATE:20260215
DTEND;VALUE=DATE:20260216
DTSTAMP:20260421T203144
CREATED:20260102T200513Z
LAST-MODIFIED:20260102T200513Z
UID:3103-1771113600-1771199999@www.kolping-oberstdorf.de
SUMMARY:Fasnachtsumzug
DESCRIPTION:Wir machen mit beim Fasnachstumzug \n
URL:https://www.kolping-oberstdorf.de/termine/fasnachtsumzug/
END:VEVENT
END:VCALENDAR