BEGIN:VCALENDAR
VERSION:2.0
PRODID:-//Kolping Oberstdorf - ECPv4.6.25//NONSGML v1.0//EN
CALSCALE:GREGORIAN
METHOD:PUBLISH
X-WR-CALNAME:Kolping Oberstdorf
X-ORIGINAL-URL:https://www.kolping-oberstdorf.de
X-WR-CALDESC:Veranstaltungen für Kolping Oberstdorf
BEGIN:VEVENT
DTSTART;VALUE=DATE:20230817
DTEND;VALUE=DATE:20230821
DTSTAMP:20260422T223154
CREATED:20220929T094259Z
LAST-MODIFIED:20230704T072338Z
UID:2364-1692230400-1692575999@www.kolping-oberstdorf.de
SUMMARY:Hüttenlager 2023
DESCRIPTION:Für Kinder und Jugendliche ab 9 Jahren. \nSommer\, Sonne\, Ferienlaune – fahr mit uns für ein verlängertes Wochenende auf eine Selbstversorgerhütte.\nZeit in der Natur\, singen am Lagerfeuer\, ein tolles Programm und viele neue Freunde warten auf dich. \nWER? Alle Jugendlichen die Lust auf eine geile Zeit zusammen haben \nWANN? 17. – 20.08.2022 \nWo? Kolpingferienhaus Weißenbach \nKOSTEN? 65\,00 Euro (Kolpingmitglieder) // 75\,00 Euro \nNähere Informationen folgen. \n \n
URL:https://www.kolping-oberstdorf.de/termine/huettenlager-2023/
LOCATION:Kolpinghütte Weißenbach\, bei Reutte in Tirol
CATEGORIES:Jugend
ORGANIZER;CN="Kolpingjugend%20Oberstdorf":MAILTO:jugend@gmail.com
END:VEVENT
END:VCALENDAR