BEGIN:VCALENDAR
VERSION:2.0
PRODID:-//Kolping Oberstdorf - ECPv4.6.25//NONSGML v1.0//EN
CALSCALE:GREGORIAN
METHOD:PUBLISH
X-WR-CALNAME:Kolping Oberstdorf
X-ORIGINAL-URL:https://www.kolping-oberstdorf.de
X-WR-CALDESC:Veranstaltungen für Kolping Oberstdorf
BEGIN:VEVENT
DTSTART;TZID=Europe/Berlin:20260128T200000
DTEND;TZID=Europe/Berlin:20260128T200000
DTSTAMP:20260422T035618
CREATED:20260102T205818Z
LAST-MODIFIED:20260102T205818Z
UID:3153-1769630400-1769630400@www.kolping-oberstdorf.de
SUMMARY:Stiibleshuigaarte
DESCRIPTION:
URL:https://www.kolping-oberstdorf.de/termine/stiibleshuigaarte-2/
CATEGORIES:Schtiibleshuigaarte
END:VEVENT
END:VCALENDAR